Package: EpiTxDb Version: 1.19.0 Command: /home/biocbuild/bbs-3.21-bioc/R/bin/R CMD INSTALL EpiTxDb StartedAt: 2025-02-16 15:45:50 -0500 (Sun, 16 Feb 2025) EndedAt: 2025-02-16 15:46:32 -0500 (Sun, 16 Feb 2025) EllapsedTime: 42.1 seconds RetCode: 0 Status: OK