Package: EpiTxDb Version: 1.19.0 Command: /home/biocbuild/R/R/bin/R CMD build --keep-empty-dirs --no-resave-data EpiTxDb StartedAt: 2025-01-28 22:45:26 -0000 (Tue, 28 Jan 2025) EndedAt: 2025-01-28 22:49:50 -0000 (Tue, 28 Jan 2025) EllapsedTime: 264.1 seconds RetCode: 0 Status: OK PackageFile: EpiTxDb_1.19.0.tar.gz PackageFileSize: 856.3 KiB