Package: EpiTxDb Version: 1.19.0 Command: /Library/Frameworks/R.framework/Resources/bin/R CMD check --install=check:EpiTxDb.install-out.txt --library=/Library/Frameworks/R.framework/Resources/library --no-vignettes --timings EpiTxDb_1.19.0.tar.gz StartedAt: 2025-02-04 19:10:27 -0500 (Tue, 04 Feb 2025) EndedAt: 2025-02-04 19:12:20 -0500 (Tue, 04 Feb 2025) EllapsedTime: 113.3 seconds RetCode: 0 Status: WARNINGS CheckDir: EpiTxDb.Rcheck Warnings: 1