Package: EGSEA Version: 1.35.0 Command: E:\biocbuild\bbs-3.21-bioc\R\bin\R.exe CMD check --no-multiarch --install=check:EGSEA.install-out.txt --library=E:\biocbuild\bbs-3.21-bioc\R\library --no-vignettes --timings EGSEA_1.35.0.tar.gz StartedAt: 2025-02-05 01:15:02 -0500 (Wed, 05 Feb 2025) EndedAt: 2025-02-05 01:24:55 -0500 (Wed, 05 Feb 2025) EllapsedTime: 593.2 seconds RetCode: 0 Status: OK CheckDir: EGSEA.Rcheck Warnings: 0