Package: EGSEA Version: 1.35.0 Command: chmod a+r EGSEA -R && E:\biocbuild\bbs-3.21-bioc\R\bin\R.exe CMD build --keep-empty-dirs --no-resave-data EGSEA StartedAt: 2025-02-04 18:32:23 -0500 (Tue, 04 Feb 2025) EndedAt: 2025-02-04 18:41:05 -0500 (Tue, 04 Feb 2025) EllapsedTime: 522.4 seconds RetCode: 0 Status: OK PackageFile: EGSEA_1.35.0.tar.gz PackageFileSize: 2.1 MiB