Package: EGSEA
Version: 1.35.0
Command: /home/biocbuild/R/R/bin/R CMD check --install=check:EGSEA.install-out.txt --library=/home/biocbuild/R/R/site-library --no-vignettes --timings EGSEA_1.35.0.tar.gz
StartedAt: 2025-01-28 10:14:49 -0000 (Tue, 28 Jan 2025)
EndedAt: 2025-01-28 10:26:09 -0000 (Tue, 28 Jan 2025)
EllapsedTime: 679.8 seconds
RetCode: 0
Status: OK
CheckDir: EGSEA.Rcheck
Warnings: 0