Package: EGSEA
Version: 1.35.0
Command: /home/biocbuild/R/R/bin/R CMD build --keep-empty-dirs --no-resave-data EGSEA
StartedAt: 2025-01-28 22:39:20 -0000 (Tue, 28 Jan 2025)
EndedAt: 2025-01-28 22:45:26 -0000 (Tue, 28 Jan 2025)
EllapsedTime: 366.1 seconds
RetCode: 0
Status: OK
PackageFile: EGSEA_1.35.0.tar.gz
PackageFileSize: 2.111 <A href="http://en.wikipedia.org/wiki/MiB" target="_blank">MiB</A>