Package: EDIRquery
Version: 1.7.0
Command: /home/biocbuild/R/R/bin/R CMD INSTALL EDIRquery
StartedAt: 2025-01-29 19:41:54 -0000 (Wed, 29 Jan 2025)
EndedAt: 2025-01-29 19:42:28 -0000 (Wed, 29 Jan 2025)
EllapsedTime: 34.0 seconds
RetCode: 0
Status: OK