Package: EDIRquery
Version: 1.7.0
Command: /home/biocbuild/R/R/bin/R CMD build --keep-empty-dirs --no-resave-data EDIRquery
StartedAt: 2025-01-28 22:39:12 -0000 (Tue, 28 Jan 2025)
EndedAt: 2025-01-28 22:40:03 -0000 (Tue, 28 Jan 2025)
EllapsedTime: 51.0 seconds
RetCode: 0
Status: OK
PackageFile: EDIRquery_1.7.0.tar.gz
PackageFileSize: 1.368 <A href="http://en.wikipedia.org/wiki/MiB" target="_blank">MiB</A>