Package: DropletUtils Version: 1.27.2 Command: rm -rf DropletUtils.buildbin-libdir && mkdir DropletUtils.buildbin-libdir && E:\biocbuild\bbs-3.21-bioc\R\bin\R.exe CMD INSTALL --build --library=DropletUtils.buildbin-libdir DropletUtils_1.27.2.tar.gz StartedAt: 2025-02-17 07:27:20 -0500 (Mon, 17 Feb 2025) EndedAt: 2025-02-17 07:29:47 -0500 (Mon, 17 Feb 2025) EllapsedTime: 146.6 seconds RetCode: 0 Status: OK PackageFile: DropletUtils_1.27.2.zip PackageFileSize: 2.111 <A href="http://en.wikipedia.org/wiki/MiB" target="_blank">MiB</A>