Package: DropletUtils Version: 1.27.2 Command: /home/biocbuild/R/R/bin/R CMD INSTALL DropletUtils StartedAt: 2025-01-29 19:54:07 -0000 (Wed, 29 Jan 2025) EndedAt: 2025-01-29 19:55:45 -0000 (Wed, 29 Jan 2025) EllapsedTime: 98.2 seconds RetCode: 0 Status: OK