Package: Director Version: 1.33.1 Command: /Library/Frameworks/R.framework/Resources/bin/R CMD INSTALL Director StartedAt: 2025-02-19 15:16:24 -0500 (Wed, 19 Feb 2025) EndedAt: 2025-02-19 15:16:33 -0500 (Wed, 19 Feb 2025) EllapsedTime: 8.8 seconds RetCode: 0 Status: OK