Package: Director
Version: 1.33.1
Command: /Library/Frameworks/R.framework/Resources/bin/R CMD build --keep-empty-dirs --no-resave-data Director
StartedAt: 2025-02-19 16:32:02 -0500 (Wed, 19 Feb 2025)
EndedAt: 2025-02-19 16:32:15 -0500 (Wed, 19 Feb 2025)
EllapsedTime: 13.7 seconds
RetCode: 0
Status: OK
PackageFile: Director_1.33.1.tar.gz
PackageFileSize: 694.7 <A href="http://en.wikipedia.org/wiki/KiB" target="_blank">KiB</A>