Package: Director
Version: 1.33.1
Command: rm -rf Director.buildbin-libdir && mkdir Director.buildbin-libdir && /Users/biocbuild/BBS/utils/build-universal.sh Director_1.33.1.tar.gz /Library/Frameworks/R.framework/Resources/bin/R Director.buildbin-libdir
StartedAt: 2025-02-20 00:29:26 -0500 (Thu, 20 Feb 2025)
EndedAt: 2025-02-20 00:29:33 -0500 (Thu, 20 Feb 2025)
EllapsedTime: 7.0 seconds
RetCode: 0
Status: OK
PackageFile: Director_1.33.1.tgz
PackageFileSize: 576.4 <A href="http://en.wikipedia.org/wiki/KiB" target="_blank">KiB</A>