Package: Director
Version: 1.33.0
Command: /home/biocbuild/R/R/bin/R CMD check --install=check:Director.install-out.txt --library=/home/biocbuild/R/R/site-library --no-vignettes --timings Director_1.33.0.tar.gz
StartedAt: 2025-01-28 10:00:53 -0000 (Tue, 28 Jan 2025)
EndedAt: 2025-01-28 10:01:15 -0000 (Tue, 28 Jan 2025)
EllapsedTime: 22.0 seconds
RetCode: 0
Status: OK
CheckDir: Director.Rcheck
Warnings: 0