Package: Director Version: 1.33.1 Command: /Library/Frameworks/R.framework/Resources/bin/R CMD check --install=check:Director.install-out.txt --library=/Library/Frameworks/R.framework/Resources/library --no-vignettes --timings Director_1.33.1.tar.gz StartedAt: 2025-02-19 19:03:02 -0500 (Wed, 19 Feb 2025) EndedAt: 2025-02-19 19:03:14 -0500 (Wed, 19 Feb 2025) EllapsedTime: 12.2 seconds RetCode: 0 Status: OK CheckDir: Director.Rcheck Warnings: 0