Package: Director Version: 1.33.1 Command: /Library/Frameworks/R.framework/Resources/bin/R CMD build --keep-empty-dirs --no-resave-data Director StartedAt: 2025-02-19 16:10:25 -0500 (Wed, 19 Feb 2025) EndedAt: 2025-02-19 16:10:30 -0500 (Wed, 19 Feb 2025) EllapsedTime: 5.0 seconds RetCode: 0 Status: OK PackageFile: Director_1.33.1.tar.gz PackageFileSize: 695.2 <A href="http://en.wikipedia.org/wiki/KiB" target="_blank">KiB</A>