Package: DelayedTensor
Version: 1.13.0
Command: /Library/Frameworks/R.framework/Resources/bin/R CMD INSTALL DelayedTensor
StartedAt: 2025-02-19 15:38:28 -0500 (Wed, 19 Feb 2025)
EndedAt: 2025-02-19 15:39:07 -0500 (Wed, 19 Feb 2025)
EllapsedTime: 39.0 seconds
RetCode: 0
Status: OK