Package: DelayedTensor Version: 1.13.0 Command: rm -rf DelayedTensor.buildbin-libdir && mkdir DelayedTensor.buildbin-libdir && /Users/biocbuild/BBS/utils/build-universal.sh DelayedTensor_1.13.0.tar.gz /Library/Frameworks/R.framework/Resources/bin/R DelayedTensor.buildbin-libdir StartedAt: 2025-02-20 00:28:38 -0500 (Thu, 20 Feb 2025) EndedAt: 2025-02-20 00:29:20 -0500 (Thu, 20 Feb 2025) EllapsedTime: 42.6 seconds RetCode: 0 Status: OK PackageFile: DelayedTensor_1.13.0.tgz PackageFileSize: 3.096 <A href="http://en.wikipedia.org/wiki/MiB" target="_blank">MiB</A>