Package: DeconRNASeq
Version: 1.49.0
Maintainer: Ting Gong
MaintainerEmail: tinggong at gmail.com
git_url: https://git.bioconductor.org/packages/DeconRNASeq
git_branch: devel
git_last_commit: 3a944d5
git_last_commit_date: 2024-10-29 09:42:45 -0500 (Tue, 29 Oct 2024)