Package: DeMixT Version: 1.23.0 Command: chmod a+r DeMixT -R && E:\biocbuild\bbs-3.21-bioc\R\bin\R.exe CMD build --keep-empty-dirs --no-resave-data DeMixT StartedAt: 2025-02-04 18:17:28 -0500 (Tue, 04 Feb 2025) EndedAt: 2025-02-04 18:19:35 -0500 (Tue, 04 Feb 2025) EllapsedTime: 127.6 seconds RetCode: 0 Status: OK PackageFile: DeMixT_1.23.0.tar.gz PackageFileSize: 6.001 MiB