Package: DeMixT Version: 1.23.0 Command: /home/biocbuild/bbs-3.21-bioc/R/bin/R CMD build --keep-empty-dirs --no-resave-data DeMixT StartedAt: 2025-02-04 16:55:31 -0500 (Tue, 04 Feb 2025) EndedAt: 2025-02-04 16:56:49 -0500 (Tue, 04 Feb 2025) EllapsedTime: 78.1 seconds RetCode: 0 Status: OK PackageFile: DeMixT_1.23.0.tar.gz PackageFileSize: 6.058 MiB