Package: DeMixT Version: 1.23.0 Command: /home/biocbuild/R/R/bin/R CMD INSTALL DeMixT StartedAt: 2025-01-29 20:18:10 -0000 (Wed, 29 Jan 2025) EndedAt: 2025-01-29 20:19:41 -0000 (Wed, 29 Jan 2025) EllapsedTime: 90.6 seconds RetCode: 0 Status: OK