Package: DeMAND
Version: 1.37.0
Command: E:\biocbuild\bbs-3.21-bioc\R\bin\R.exe CMD INSTALL DeMAND
StartedAt: 2025-02-19 15:20:41 -0500 (Wed, 19 Feb 2025)
EndedAt: 2025-02-19 15:20:50 -0500 (Wed, 19 Feb 2025)
EllapsedTime: 9.1 seconds
RetCode: 0
Status: OK