Package: DeMAND
Version: 1.37.0
Command: E:\biocbuild\bbs-3.21-bioc\R\bin\R.exe CMD check --no-multiarch --install=check:DeMAND.install-out.txt --library=E:\biocbuild\bbs-3.21-bioc\R\library --no-vignettes --timings DeMAND_1.37.0.tar.gz
StartedAt: 2025-02-20 00:23:53 -0500 (Thu, 20 Feb 2025)
EndedAt: 2025-02-20 00:24:22 -0500 (Thu, 20 Feb 2025)
EllapsedTime: 29.0 seconds
RetCode: 0
Status: OK
CheckDir: DeMAND.Rcheck
Warnings: 0