Package: DeMAND
Version: 1.37.0
Command: chmod a+r DeMAND -R && E:\biocbuild\bbs-3.21-bioc\R\bin\R.exe CMD build --keep-empty-dirs --no-resave-data DeMAND
StartedAt: 2025-02-19 18:19:05 -0500 (Wed, 19 Feb 2025)
EndedAt: 2025-02-19 18:19:18 -0500 (Wed, 19 Feb 2025)
EllapsedTime: 13.0 seconds
RetCode: 0
Status: OK
PackageFile: DeMAND_1.37.0.tar.gz
PackageFileSize: 167.8 <A href="http://en.wikipedia.org/wiki/KiB" target="_blank">KiB</A>