Package: DeMAND
Version: 1.37.0
Command: /Library/Frameworks/R.framework/Resources/bin/R CMD INSTALL DeMAND
StartedAt: 2025-02-19 15:03:33 -0500 (Wed, 19 Feb 2025)
EndedAt: 2025-02-19 15:04:11 -0500 (Wed, 19 Feb 2025)
EllapsedTime: 37.2 seconds
RetCode: 0
Status: OK