Package: DeMAND Version: 1.37.0 Command: /Library/Frameworks/R.framework/Resources/bin/R CMD INSTALL DeMAND StartedAt: 2025-02-19 15:01:20 -0500 (Wed, 19 Feb 2025) EndedAt: 2025-02-19 15:01:23 -0500 (Wed, 19 Feb 2025) EllapsedTime: 2.6 seconds RetCode: 0 Status: OK