Package: DeMAND Version: 1.37.0 Command: /Library/Frameworks/R.framework/Resources/bin/R CMD build --keep-empty-dirs --no-resave-data DeMAND StartedAt: 2025-02-19 16:07:44 -0500 (Wed, 19 Feb 2025) EndedAt: 2025-02-19 16:07:48 -0500 (Wed, 19 Feb 2025) EllapsedTime: 4.0 seconds RetCode: 0 Status: OK PackageFile: DeMAND_1.37.0.tar.gz PackageFileSize: 317.8 <A href="http://en.wikipedia.org/wiki/KiB" target="_blank">KiB</A>