Package: DeMAND Version: 1.37.0 Command: rm -rf DeMAND.buildbin-libdir && mkdir DeMAND.buildbin-libdir && /Users/biocbuild/BBS/utils/build-universal.sh DeMAND_1.37.0.tar.gz /Library/Frameworks/R.framework/Resources/bin/R DeMAND.buildbin-libdir StartedAt: 2025-02-19 22:19:39 -0500 (Wed, 19 Feb 2025) EndedAt: 2025-02-19 22:19:41 -0500 (Wed, 19 Feb 2025) EllapsedTime: 2.1 seconds RetCode: 0 Status: OK PackageFile: DeMAND_1.37.0.tgz PackageFileSize: 351.7 <A href="http://en.wikipedia.org/wiki/KiB" target="_blank">KiB</A>