Package: DaMiRseq
Version: 2.19.0
Command: /home/biocbuild/R/R/bin/R CMD check --install=check:DaMiRseq.install-out.txt --library=/home/biocbuild/R/R/site-library --no-vignettes --timings DaMiRseq_2.19.0.tar.gz
StartedAt: 2025-01-28 09:44:01 -0000 (Tue, 28 Jan 2025)
EndedAt: 2025-01-28 09:52:59 -0000 (Tue, 28 Jan 2025)
EllapsedTime: 537.5 seconds
RetCode: 0
Status: WARNINGS
CheckDir: DaMiRseq.Rcheck
Warnings: 5