Package: DaMiRseq
Version: 2.19.0
Command: /home/biocbuild/R/R/bin/R CMD build --keep-empty-dirs --no-resave-data DaMiRseq
StartedAt: 2025-01-28 22:15:59 -0000 (Tue, 28 Jan 2025)
EndedAt: 2025-01-28 22:28:02 -0000 (Tue, 28 Jan 2025)
EllapsedTime: 722.2 seconds
RetCode: 0
Status: OK
PackageFile: DaMiRseq_2.19.0.tar.gz
PackageFileSize: 4.199 <A href="http://en.wikipedia.org/wiki/MiB" target="_blank">MiB</A>