Package: DNAfusion
Version: 1.9.0
Maintainer: Christoffer Trier Maansson
MaintainerEmail: ctm at clin.au.dk
git_url: https://git.bioconductor.org/packages/DNAfusion
git_branch: devel
git_last_commit: b215285
git_last_commit_date: 2024-10-29 11:15:54 -0500 (Tue, 29 Oct 2024)