Package: DNAcopy Version: 1.81.0 Command: /Library/Frameworks/R.framework/Resources/bin/R CMD build --keep-empty-dirs --no-resave-data DNAcopy StartedAt: 2025-02-16 16:29:59 -0500 (Sun, 16 Feb 2025) EndedAt: 2025-02-16 16:30:18 -0500 (Sun, 16 Feb 2025) EllapsedTime: 19.5 seconds RetCode: 0 Status: OK PackageFile: DNAcopy_1.81.0.tar.gz PackageFileSize: 404.5 <A href="http://en.wikipedia.org/wiki/KiB" target="_blank">KiB</A>