Package: DNAcopy
Version: 1.81.0
Command: /home/biocbuild/R/R/bin/R CMD INSTALL DNAcopy
StartedAt: 2025-01-29 19:29:28 -0000 (Wed, 29 Jan 2025)
EndedAt: 2025-01-29 19:29:43 -0000 (Wed, 29 Jan 2025)
EllapsedTime: 15.1 seconds
RetCode: 0
Status: OK