Package: DNAcopy
Version: 1.81.0
Command: /home/biocbuild/R/R/bin/R CMD check --install=check:DNAcopy.install-out.txt --library=/home/biocbuild/R/R/site-library --no-vignettes --timings DNAcopy_1.81.0.tar.gz
StartedAt: 2025-01-28 10:05:24 -0000 (Tue, 28 Jan 2025)
EndedAt: 2025-01-28 10:05:47 -0000 (Tue, 28 Jan 2025)
EllapsedTime: 23.0 seconds
RetCode: 0
Status: OK
CheckDir: DNAcopy.Rcheck
Warnings: 0