Package: DNAcopy Version: 1.81.0 Command: /Library/Frameworks/R.framework/Resources/bin/R CMD INSTALL DNAcopy StartedAt: 2025-02-19 15:00:57 -0500 (Wed, 19 Feb 2025) EndedAt: 2025-02-19 15:01:00 -0500 (Wed, 19 Feb 2025) EllapsedTime: 3.1 seconds RetCode: 0 Status: OK