Package: DNAcopy Version: 1.81.0 Command: rm -rf DNAcopy.buildbin-libdir && mkdir DNAcopy.buildbin-libdir && /Users/biocbuild/BBS/utils/build-universal.sh DNAcopy_1.81.0.tar.gz /Library/Frameworks/R.framework/Resources/bin/R DNAcopy.buildbin-libdir StartedAt: 2025-02-19 22:20:21 -0500 (Wed, 19 Feb 2025) EndedAt: 2025-02-19 22:20:25 -0500 (Wed, 19 Feb 2025) EllapsedTime: 4.1 seconds RetCode: 0 Status: OK PackageFile: DNAcopy_1.81.0.tgz PackageFileSize: 500 <A href="http://en.wikipedia.org/wiki/KiB" target="_blank">KiB</A>