Package: DEsubs Version: 1.33.0 Command: /home/biocbuild/bbs-3.21-bioc/R/bin/R CMD check --install=check:DEsubs.install-out.txt --library=/home/biocbuild/bbs-3.21-bioc/R/site-library --timings DEsubs_1.33.0.tar.gz StartedAt: 2025-02-19 21:39:12 -0500 (Wed, 19 Feb 2025) EndedAt: 2025-02-19 21:42:59 -0500 (Wed, 19 Feb 2025) EllapsedTime: 226.3 seconds RetCode: 0 Status: WARNINGS CheckDir: DEsubs.Rcheck Warnings: 1