Package: DEsubs Version: 1.33.0 Command: /home/biocbuild/bbs-3.21-bioc/R/bin/R CMD build --keep-empty-dirs --no-resave-data DEsubs StartedAt: 2025-02-19 16:59:44 -0500 (Wed, 19 Feb 2025) EndedAt: 2025-02-19 17:00:46 -0500 (Wed, 19 Feb 2025) EllapsedTime: 62.1 seconds RetCode: 0 Status: OK PackageFile: DEsubs_1.33.0.tar.gz PackageFileSize: 3.971 <A href="http://en.wikipedia.org/wiki/MiB" target="_blank">MiB</A>