Package: DEsubs Version: 1.33.0 Command: /Library/Frameworks/R.framework/Resources/bin/R CMD INSTALL DEsubs StartedAt: 2025-02-19 15:19:09 -0500 (Wed, 19 Feb 2025) EndedAt: 2025-02-19 15:19:20 -0500 (Wed, 19 Feb 2025) EllapsedTime: 11.5 seconds RetCode: 0 Status: OK