Package: DEsubs Version: 1.33.0 Command: rm -rf DEsubs.buildbin-libdir && mkdir DEsubs.buildbin-libdir && /Users/biocbuild/BBS/utils/build-universal.sh DEsubs_1.33.0.tar.gz /Library/Frameworks/R.framework/Resources/bin/R DEsubs.buildbin-libdir StartedAt: 2025-02-19 22:19:50 -0500 (Wed, 19 Feb 2025) EndedAt: 2025-02-19 22:20:02 -0500 (Wed, 19 Feb 2025) EllapsedTime: 12.2 seconds RetCode: 0 Status: OK PackageFile: DEsubs_1.33.0.tgz PackageFileSize: 3.744 <A href="http://en.wikipedia.org/wiki/MiB" target="_blank">MiB</A>