Package: DESeq2 Version: 1.47.3 Maintainer: Michael Love MaintainerEmail: michaelisaiahlove at gmail.com git_url: https://git.bioconductor.org/packages/DESeq2 git_branch: devel git_last_commit: 2b499ea git_last_commit_date: 2025-02-04 07:56:33 -0500 (Tue, 04 Feb 2025)