Package: DEP Version: 1.29.0 Command: /Library/Frameworks/R.framework/Resources/bin/R CMD build --keep-empty-dirs --no-resave-data DEP StartedAt: 2025-01-31 16:08:47 -0500 (Fri, 31 Jan 2025) EndedAt: 2025-01-31 16:09:23 -0500 (Fri, 31 Jan 2025) EllapsedTime: 36.4 seconds RetCode: 0 Status: OK PackageFile: DEP_1.29.0.tar.gz PackageFileSize: 3.386 MiB