Package: CytoMDS Version: 1.3.5 Command: E:\biocbuild\bbs-3.21-bioc\R\bin\R.exe CMD INSTALL CytoMDS StartedAt: 2025-02-19 16:34:10 -0500 (Wed, 19 Feb 2025) EndedAt: 2025-02-19 16:34:42 -0500 (Wed, 19 Feb 2025) EllapsedTime: 32.1 seconds RetCode: 0 Status: OK