Package: CytoMDS
Version: 1.3.5
Command: E:\biocbuild\bbs-3.21-bioc\R\bin\R.exe CMD check --no-multiarch --install=check:CytoMDS.install-out.txt --library=E:\biocbuild\bbs-3.21-bioc\R\library --no-vignettes --timings CytoMDS_1.3.5.tar.gz
StartedAt: 2025-02-20 00:09:47 -0500 (Thu, 20 Feb 2025)
EndedAt: 2025-02-20 00:16:38 -0500 (Thu, 20 Feb 2025)
EllapsedTime: 411.2 seconds
RetCode: 0
Status: OK
CheckDir: CytoMDS.Rcheck
Warnings: 0