Package: CytoMDS
Version: 1.3.5
Command: rm -rf CytoMDS.buildbin-libdir && mkdir CytoMDS.buildbin-libdir && E:\biocbuild\bbs-3.21-bioc\R\bin\R.exe CMD INSTALL --build --library=CytoMDS.buildbin-libdir CytoMDS_1.3.5.tar.gz
StartedAt: 2025-02-20 07:35:47 -0500 (Thu, 20 Feb 2025)
EndedAt: 2025-02-20 07:36:35 -0500 (Thu, 20 Feb 2025)
EllapsedTime: 47.5 seconds
RetCode: 0
Status: OK
PackageFile: CytoMDS_1.3.5.zip
PackageFileSize: 1.493 <A href="http://en.wikipedia.org/wiki/MiB" target="_blank">MiB</A>