##############################################################################
##############################################################################
###
### Running command:
###
###   rm -rf CytoMDS.buildbin-libdir && mkdir CytoMDS.buildbin-libdir && E:\biocbuild\bbs-3.21-bioc\R\bin\R.exe CMD INSTALL --build --library=CytoMDS.buildbin-libdir CytoMDS_1.3.5.tar.gz
###
##############################################################################
##############################################################################


* installing *source* package 'CytoMDS' ...
** this is package 'CytoMDS' version '1.3.5'
** using staged installation
** R
** inst
** byte-compile and prepare package for lazy loading
** help
*** installing help indices
** building package indices
** installing vignettes
** testing if installed package can be loaded from temporary location
** testing if installed package can be loaded from final location
** testing if installed package keeps a record of temporary installation path
* MD5 sums
packaged installation of 'CytoMDS' as CytoMDS_1.3.5.zip
* DONE (CytoMDS)