Package: CytoMDS
Version: 1.3.5
Command: /home/biocbuild/R/R/bin/R CMD build --keep-empty-dirs --no-resave-data CytoMDS
StartedAt: 2025-01-28 22:14:41 -0000 (Tue, 28 Jan 2025)
EndedAt: 2025-01-28 22:18:51 -0000 (Tue, 28 Jan 2025)
EllapsedTime: 250.1 seconds
RetCode: 0
Status: OK
PackageFile: CytoMDS_1.3.5.tar.gz
PackageFileSize: 3.243 <A href="http://en.wikipedia.org/wiki/MiB" target="_blank">MiB</A>