Package: CyTOFpower Version: 1.13.0 Command: E:\biocbuild\bbs-3.21-bioc\R\bin\R.exe CMD check --no-multiarch --install=check:CyTOFpower.install-out.txt --library=E:\biocbuild\bbs-3.21-bioc\R\library --no-vignettes --timings CyTOFpower_1.13.0.tar.gz StartedAt: 2025-02-20 00:08:19 -0500 (Thu, 20 Feb 2025) EndedAt: 2025-02-20 00:09:46 -0500 (Thu, 20 Feb 2025) EllapsedTime: 86.3 seconds RetCode: 1 Status: ERROR CheckDir: CyTOFpower.Rcheck Warnings: NA